BEGIN:VCALENDAR
VERSION:2.0
PRODID:-//time.now/holidays//NONSGML v1.0//EN
BEGIN:VEVENT
UID:81405cbe-984b-4205-889b-a5e884ef7a39
DTSTAMP:20260422T090011Z
DTSTART;VALUE=DATE:20260511
SUMMARY:San Giustino di Chieti (Italie)
END:VEVENT
END:VCALENDAR