BEGIN:VCALENDAR
VERSION:2.0
PRODID:-//time.now/holidays//NONSGML v1.0//EN
BEGIN:VEVENT
UID:64737bf4-4121-42be-bb4d-7692309a8e64
DTSTAMP:20260420T141012Z
DTSTART;VALUE=DATE:20260319
SUMMARY:San Giuseppe (Italie)
END:VEVENT
END:VCALENDAR