BEGIN:VCALENDAR
VERSION:2.0
PRODID:-//time.now/holidays//NONSGML v1.0//EN
BEGIN:VEVENT
UID:99209ebc-ff23-446d-98b0-457c0b2aadd7
DTSTAMP:20260422T133158Z
DTSTART;VALUE=DATE:20260530
SUMMARY:San Gerardo di Potenza (Italie)
END:VEVENT
END:VCALENDAR