BEGIN:VCALENDAR
VERSION:2.0
PRODID:-//time.now/holidays//NONSGML v1.0//EN
BEGIN:VEVENT
UID:87f7df15-2d75-44c1-931d-24df6b6f0a70
DTSTAMP:20260420T182707Z
DTSTART;VALUE=DATE:20260919
SUMMARY:San Gennaro (Italie)
END:VEVENT
END:VCALENDAR