BEGIN:VCALENDAR
VERSION:2.0
PRODID:-//time.now/holidays//NONSGML v1.0//EN
BEGIN:VEVENT
UID:20926313-242b-4bcd-8a7f-e4e70a4062fb
DTSTAMP:20260420T192058Z
DTSTART;VALUE=DATE:20260122
SUMMARY:San Gaudenzio (Italie)
END:VEVENT
END:VCALENDAR