BEGIN:VCALENDAR
VERSION:2.0
PRODID:-//time.now/holidays//NONSGML v1.0//EN
BEGIN:VEVENT
UID:ca6c7101-69a6-4198-aab5-8ec78b2ca7bb
DTSTAMP:20260420T212732Z
DTSTART;VALUE=DATE:20261004
SUMMARY:San Francesco d'Assisi (Italie)
END:VEVENT
END:VCALENDAR