BEGIN:VCALENDAR
VERSION:2.0
PRODID:-//time.now/holidays//NONSGML v1.0//EN
BEGIN:VEVENT
UID:f7f81802-e395-4dd7-bd19-b73470cc0e51
DTSTAMP:20260420T192149Z
DTSTART;VALUE=DATE:20260601
SUMMARY:San Crescentino (Italie)
END:VEVENT
END:VCALENDAR