BEGIN:VCALENDAR
VERSION:2.0
PRODID:-//time.now/holidays//NONSGML v1.0//EN
BEGIN:VEVENT
UID:b30a61a7-ad23-4db3-9606-11afb7ad397a
DTSTAMP:20260420T191228Z
DTSTART;VALUE=DATE:20260504
SUMMARY:San Ciriaco (Italie)
END:VEVENT
END:VCALENDAR