BEGIN:VCALENDAR
VERSION:2.0
PRODID:-//time.now/holidays//NONSGML v1.0//EN
BEGIN:VEVENT
UID:340b4a09-fa54-4e81-b91d-2e7372d95f7d
DTSTAMP:20260420T171318Z
DTSTART;VALUE=DATE:20260510
SUMMARY:San Cataldo (Italie)
END:VEVENT
END:VCALENDAR