BEGIN:VCALENDAR
VERSION:2.0
PRODID:-//time.now/holidays//NONSGML v1.0//EN
BEGIN:VEVENT
UID:dad6bac7-2dd8-46b8-80c8-6071fbb3a478
DTSTAMP:20260420T203842Z
DTSTART;VALUE=DATE:20260824
SUMMARY:San Bartolomeo apostolo (Italie)
END:VEVENT
END:VCALENDAR