BEGIN:VCALENDAR
VERSION:2.0
PRODID:-//time.now/holidays//NONSGML v1.0//EN
BEGIN:VEVENT
UID:bc018135-1347-4a04-ab19-bebc870006d6
DTSTAMP:20260422T085900Z
DTSTART;VALUE=DATE:20260405
SUMMARY:Pasqua di Resurrezione (Italie)
END:VEVENT
END:VCALENDAR