BEGIN:VCALENDAR
VERSION:2.0
PRODID:-//time.now/holidays//NONSGML v1.0//EN
BEGIN:VEVENT
UID:c5901145-6613-4085-b350-5130ce23de1f
DTSTAMP:20260422T090338Z
DTSTART;VALUE=DATE:20260805
SUMMARY:Nostra Signora della Neve (Italie)
END:VEVENT
END:VCALENDAR