BEGIN:VCALENDAR
VERSION:2.0
PRODID:-//time.now/holidays//NONSGML v1.0//EN
BEGIN:VEVENT
UID:4605d189-bf8f-46cc-807b-aa3b69d1e466
DTSTAMP:20260422T134316Z
DTSTART;VALUE=DATE:20260816
SUMMARY:Maria Santissima Assunta (Italie)
END:VEVENT
END:VCALENDAR