BEGIN:VCALENDAR
VERSION:2.0
PRODID:-//time.now/holidays//NONSGML v1.0//EN
BEGIN:VEVENT
UID:f0820a85-5cea-45b7-a583-1fd5ef323d9e
DTSTAMP:20260420T203046Z
DTSTART;VALUE=DATE:20260603
SUMMARY:Madonna della Lettera (Italie)
END:VEVENT
END:VCALENDAR