BEGIN:VCALENDAR
VERSION:2.0
PRODID:-//time.now/holidays//NONSGML v1.0//EN
BEGIN:VEVENT
UID:acb311c9-bb1c-40d9-8392-fb4f3d565536
DTSTAMP:20260420T173420Z
DTSTART;VALUE=DATE:20260204
SUMMARY:Madonna del Fuoco (Italie)
END:VEVENT
END:VCALENDAR