BEGIN:VCALENDAR
VERSION:2.0
PRODID:-//time.now/holidays//NONSGML v1.0//EN
BEGIN:VEVENT
UID:9c7088f4-c932-4718-aafe-7261e1451e14
DTSTAMP:20260420T171247Z
DTSTART;VALUE=DATE:20260406
SUMMARY:Lunedì dell'Angelo (Italie)
END:VEVENT
END:VCALENDAR