BEGIN:VCALENDAR
VERSION:2.0
PRODID:-//time.now/holidays//NONSGML v1.0//EN
BEGIN:VEVENT
UID:d168a8a8-9068-436e-a21e-5737817f6149
DTSTAMP:20260422T155544Z
DTSTART;VALUE=DATE:20261208
SUMMARY:Immacolata Concezione (Italie)
END:VEVENT
END:VCALENDAR