BEGIN:VCALENDAR
VERSION:2.0
PRODID:-//time.now/holidays//NONSGML v1.0//EN
BEGIN:VEVENT
UID:4d0a2a47-1be6-4aeb-81f7-659496157d15
DTSTAMP:20260422T134353Z
DTSTART;VALUE=DATE:20260501
SUMMARY:Festa dei Lavoratori (Italie)
END:VEVENT
END:VCALENDAR