BEGIN:VCALENDAR
VERSION:2.0
PRODID:-//time.now/holidays//NONSGML v1.0//EN
BEGIN:VEVENT
UID:24db7461-047d-4010-bfec-5ff701d56885
DTSTAMP:20260420T160015Z
DTSTART;VALUE=DATE:20261003
SUMMARY:Simchat Torah / Shemini Atzeret (Israël)
END:VEVENT
END:VCALENDAR