BEGIN:VCALENDAR
VERSION:2.0
PRODID:-//time.now/holidays//NONSGML v1.0//EN
BEGIN:VEVENT
UID:5f8f3f74-66f3-49d1-b566-2607c3ca211a
DTSTAMP:20260421T003918Z
DTSTART;VALUE=DATE:20260408
SUMMARY:Seventh day of Pesach (Israël)
END:VEVENT
END:VCALENDAR