BEGIN:VCALENDAR
VERSION:2.0
PRODID:-//time.now/holidays//NONSGML v1.0//EN
BEGIN:VEVENT
UID:eb146c11-f764-4be2-b12f-0f5eb24daf87
DTSTAMP:20260420T162859Z
DTSTART;VALUE=DATE:20260912
SUMMARY:Rosh Hashanah (Israël)
END:VEVENT
END:VCALENDAR