BEGIN:VCALENDAR
VERSION:2.0
PRODID:-//time.now/holidays//NONSGML v1.0//EN
BEGIN:VEVENT
UID:c7052ba7-fa48-4a86-a717-5b4f02593538
DTSTAMP:20260420T092804Z
DTSTART;VALUE=DATE:20260402
SUMMARY:Pesach (Israël)
END:VEVENT
END:VCALENDAR