BEGIN:VCALENDAR
VERSION:2.0
PRODID:-//time.now/holidays//NONSGML v1.0//EN
BEGIN:VEVENT
UID:6fd52689-a277-4df5-8ba7-bcae8cb0db5b
DTSTAMP:20260423T014430Z
DTSTART;VALUE=DATE:20220603
SUMMARY:Platinum Jubilee of Elizabeth II; TT Bank Holiday (Île de Man)
END:VEVENT
END:VCALENDAR