BEGIN:VCALENDAR
VERSION:2.0
PRODID:-//time.now/holidays//NONSGML v1.0//EN
BEGIN:VEVENT
UID:c683d755-3c42-40ca-a5a3-c00e90efb70f
DTSTAMP:20260422T193207Z
DTSTART;VALUE=DATE:20260406
SUMMARY:Easter Monday (Île de Man)
END:VEVENT
END:VCALENDAR