BEGIN:VCALENDAR
VERSION:2.0
PRODID:-//time.now/holidays//NONSGML v1.0//EN
BEGIN:VEVENT
UID:fa10d0f8-9aa2-4765-b145-a62175f50e8e
DTSTAMP:20260422T090722Z
DTSTART;VALUE=DATE:20261228
SUMMARY:Boxing Day (observed) (Île de Man)
END:VEVENT
END:VCALENDAR