BEGIN:VCALENDAR
VERSION:2.0
PRODID:-//time.now/holidays//NONSGML v1.0//EN
BEGIN:VEVENT
UID:9f7fd407-0403-4a9c-a96e-33e112fdc74f
DTSTAMP:20260420T153811Z
DTSTART;VALUE=DATE:20260202
SUMMARY:Saint Brigid's Day (Irlande)
END:VEVENT
END:VCALENDAR