BEGIN:VCALENDAR
VERSION:2.0
PRODID:-//time.now/holidays//NONSGML v1.0//EN
BEGIN:VEVENT
UID:97f852a0-e4d2-4689-87ba-02f3c8bed8a5
DTSTAMP:20260422T104653Z
DTSTART;VALUE=DATE:20250322
SUMMARY:Martyrdom of Imam Ali; Nowruz Holiday (Iran)
END:VEVENT
END:VCALENDAR