BEGIN:VCALENDAR
VERSION:2.0
PRODID:-//time.now/holidays//NONSGML v1.0//EN
BEGIN:VEVENT
UID:4b60bce7-ffdf-4cab-bfc7-411f9c1c671d
DTSTAMP:20260422T193239Z
DTSTART;VALUE=DATE:20300320
SUMMARY:Last Day of Year (Iran)
END:VEVENT
END:VCALENDAR