BEGIN:VCALENDAR
VERSION:2.0
PRODID:-//time.now/holidays//NONSGML v1.0//EN
BEGIN:VEVENT
UID:b36c227e-ce70-40f6-b2e8-2c7ca185292b
DTSTAMP:20260420T170620Z
DTSTART;VALUE=DATE:20250128
SUMMARY:Isra' and Mi'raj (Iran)
END:VEVENT
END:VCALENDAR