BEGIN:VCALENDAR
VERSION:2.0
PRODID:-//time.now/holidays//NONSGML v1.0//EN
BEGIN:VEVENT
UID:3d5be87b-4a77-4a7c-9186-e8bebf97fc59
DTSTAMP:20260420T123724Z
DTSTART;VALUE=DATE:20260116
SUMMARY:Isra' and Mi'raj (estimated) (Iran)
END:VEVENT
END:VCALENDAR