BEGIN:VCALENDAR
VERSION:2.0
PRODID:-//time.now/holidays//NONSGML v1.0//EN
BEGIN:VEVENT
UID:863d1cbc-27e3-4485-a709-ff2aeb708760
DTSTAMP:20260420T125810Z
DTSTART;VALUE=DATE:20260211
SUMMARY:Islamic Revolution Day (Iran)
END:VEVENT
END:VCALENDAR