BEGIN:VCALENDAR
VERSION:2.0
PRODID:-//time.now/holidays//NONSGML v1.0//EN
BEGIN:VEVENT
UID:4c03e3ec-b77d-413f-a4af-c4533b91a8d3
DTSTAMP:20260420T090446Z
DTSTART;VALUE=DATE:20250614
SUMMARY:Eid al-Ghadeer (Iran)
END:VEVENT
END:VCALENDAR