BEGIN:VCALENDAR
VERSION:2.0
PRODID:-//time.now/holidays//NONSGML v1.0//EN
BEGIN:VEVENT
UID:33680c1f-270f-4255-9283-3faac7f9aa5b
DTSTAMP:20260420T161240Z
DTSTART;VALUE=DATE:20250331
SUMMARY:Eid al-Fitr (Iran)
END:VEVENT
END:VCALENDAR