BEGIN:VCALENDAR
VERSION:2.0
PRODID:-//time.now/holidays//NONSGML v1.0//EN
BEGIN:VEVENT
UID:881c51e7-c399-40a8-9e0a-f2a2b651bf79
DTSTAMP:20260422T223714Z
DTSTART;VALUE=DATE:20240411
SUMMARY:Eid al-Fitr Holiday (Iran)
END:VEVENT
END:VCALENDAR