BEGIN:VCALENDAR
VERSION:2.0
PRODID:-//time.now/holidays//NONSGML v1.0//EN
BEGIN:VEVENT
UID:b2fc29e8-90dc-4a41-abbc-a1fdde64f89c
DTSTAMP:20260420T005219Z
DTSTART;VALUE=DATE:20250706
SUMMARY:Ashura (Iran)
END:VEVENT
END:VCALENDAR