BEGIN:VCALENDAR
VERSION:2.0
PRODID:-//time.now/holidays//NONSGML v1.0//EN
BEGIN:VEVENT
UID:4bb019db-e9c6-430c-ae1e-3fc06af3c051
DTSTAMP:20260420T070432Z
DTSTART;VALUE=DATE:20260803
SUMMARY:Arbaeen (estimated) (Iran)
END:VEVENT
END:VCALENDAR