BEGIN:VCALENDAR
VERSION:2.0
PRODID:-//time.now/holidays//NONSGML v1.0//EN
BEGIN:VEVENT
UID:de71a103-a383-4eae-b230-61fef0653f55
DTSTAMP:20260420T183538Z
DTSTART;VALUE=DATE:20260616
SUMMARY:Islamic New Year (estimated) (Indonésie)
END:VEVENT
END:VCALENDAR