BEGIN:VCALENDAR
VERSION:2.0
PRODID:-//time.now/holidays//NONSGML v1.0//EN
BEGIN:VEVENT
UID:687375da-1315-4156-a79d-f9021083376a
DTSTAMP:20260420T080744Z
DTSTART;VALUE=DATE:20260817
SUMMARY:Independence Day (Indonésie)
END:VEVENT
END:VCALENDAR