BEGIN:VCALENDAR
VERSION:2.0
PRODID:-//time.now/holidays//NONSGML v1.0//EN
BEGIN:VEVENT
UID:36c1304b-6a3f-4461-9030-ee6f7ab7bd57
DTSTAMP:20260420T060300Z
DTSTART;VALUE=DATE:20260403
SUMMARY:Good Friday (Indonésie)
END:VEVENT
END:VCALENDAR