BEGIN:VCALENDAR
VERSION:2.0
PRODID:-//time.now/holidays//NONSGML v1.0//EN
BEGIN:VEVENT
UID:b9b0f81d-4e93-40da-8f84-de8981780395
DTSTAMP:20260420T184309Z
DTSTART;VALUE=DATE:20250331
SUMMARY:Eid al-Fitr (Indonésie)
END:VEVENT
END:VCALENDAR