BEGIN:VCALENDAR
VERSION:2.0
PRODID:-//time.now/holidays//NONSGML v1.0//EN
BEGIN:VEVENT
UID:80263c8b-a472-451c-84fa-f74886cbe240
DTSTAMP:20260420T204935Z
DTSTART;VALUE=DATE:20260320
SUMMARY:Eid al-Fitr (estimated) (Indonésie)
END:VEVENT
END:VCALENDAR