BEGIN:VCALENDAR
VERSION:2.0
PRODID:-//time.now/holidays//NONSGML v1.0//EN
BEGIN:VEVENT
UID:e97dfd8b-ccc8-4d06-a93f-47ee79e76b07
DTSTAMP:20260422T091803Z
DTSTART;VALUE=DATE:20280525
SUMMARY:Ascension Day; Islamic New Year (estimated) (Indonésie)
END:VEVENT
END:VCALENDAR