BEGIN:VCALENDAR
VERSION:2.0
PRODID:-//time.now/holidays//NONSGML v1.0//EN
BEGIN:VEVENT
UID:3352f513-b499-4954-9211-1e555fc4554e
DTSTAMP:20260420T100520Z
DTSTART;VALUE=DATE:20260116
SUMMARY:Uzhavar Thirunal (Inde)
END:VEVENT
END:VCALENDAR