BEGIN:VCALENDAR
VERSION:2.0
PRODID:-//time.now/holidays//NONSGML v1.0//EN
BEGIN:VEVENT
UID:6b0c8a32-0904-4394-9163-ccdf21982c73
DTSTAMP:20260420T052205Z
DTSTART;VALUE=DATE:20260114
SUMMARY:Uttarayan (Inde)
END:VEVENT
END:VCALENDAR