BEGIN:VCALENDAR
VERSION:2.0
PRODID:-//time.now/holidays//NONSGML v1.0//EN
BEGIN:VEVENT
UID:cf5e50c9-a916-43dd-a816-7c4cffd8b897
DTSTAMP:20260420T065112Z
DTSTART;VALUE=DATE:20260124
SUMMARY:UP Formation Day (Inde)
END:VEVENT
END:VCALENDAR