BEGIN:VCALENDAR
VERSION:2.0
PRODID:-//time.now/holidays//NONSGML v1.0//EN
BEGIN:VEVENT
UID:2c1b10d4-3672-486c-a385-a233d319ba73
DTSTAMP:20260422T091327Z
DTSTART;VALUE=DATE:20260115
SUMMARY:Thiruvalluvar Day / Mattu Pongal (Inde)
END:VEVENT
END:VCALENDAR