BEGIN:VCALENDAR
VERSION:2.0
PRODID:-//time.now/holidays//NONSGML v1.0//EN
BEGIN:VEVENT
UID:6b6c599b-616a-4e6b-8944-00a126915537
DTSTAMP:20260420T075517Z
DTSTART;VALUE=DATE:20260516
SUMMARY:Sikkim State Day (Inde)
END:VEVENT
END:VCALENDAR