BEGIN:VCALENDAR
VERSION:2.0
PRODID:-//time.now/holidays//NONSGML v1.0//EN
BEGIN:VEVENT
UID:38bc0ff3-30d6-46a0-b832-2fd01f7ba0fa
DTSTAMP:20260420T091939Z
DTSTART;VALUE=DATE:20260330
SUMMARY:Rajasthan Day (Inde)
END:VEVENT
END:VCALENDAR