BEGIN:VCALENDAR
VERSION:2.0
PRODID:-//time.now/holidays//NONSGML v1.0//EN
BEGIN:VEVENT
UID:ca569073-df88-464e-a04f-b5f210e17f4f
DTSTAMP:20260420T195510Z
DTSTART;VALUE=DATE:20261201
SUMMARY:Nagaland State Inauguration Day (Inde)
END:VEVENT
END:VCALENDAR