BEGIN:VCALENDAR
VERSION:2.0
PRODID:-//time.now/holidays//NONSGML v1.0//EN
BEGIN:VEVENT
UID:43c83068-ff44-4814-a43d-d4686dc8bc9e
DTSTAMP:20260420T033015Z
DTSTART;VALUE=DATE:20260114
SUMMARY:Magh Bihu (Inde)
END:VEVENT
END:VCALENDAR